0.5
0.0
0.0
-0.5
728000.25
6965999.75
