0.5
0.0
0.0
-0.5
668000.25
7031999.75
