0.5
0.0
0.0
-0.5
596000.25
7025999.75
