0.5
0.0
0.0
-0.5
548000.25
6965999.75
