0.5
0.0
0.0
-0.5
476000.25
7043999.75
