0.5
0.0
0.0
-0.5
320000.25
7025999.75
