0.5
0.0
0.0
-0.5
392000.25
6971999.75
