0.5
0.0
0.0
-0.5
350000.25
6965999.75
