0.5
0.0
0.0
-0.5
314000.25
6977999.75
