0.5
0.0
0.0
-0.5
272000.25
7025999.75
