0.5
0.0
0.0
-0.5
674000.25
6899999.75
