0.5
0.0
0.0
-0.5
458000.25
6929999.75
