0.5
0.0
0.0
-0.5
368000.25
6923999.75
