0.5
0.0
0.0
-0.5
356000.25
6905999.75
