0.5
0.0
0.0
-0.5
212000.25
6887999.75
