0.5
0.0
0.0
-0.5
626000.25
6851999.75
