0.5
0.0
0.0
-0.5
260000.25
6833999.75
