0.5
0.0
0.0
-0.5
206000.25
6797999.75
