0.5
0.0
0.0
-0.5
524000.25
6737999.75
