0.5
0.0
0.0
-0.5
338000.25
6707999.75
