0.5
0.0
0.0
-0.5
326000.25
6689999.75
