0.5
0.0
0.0
-0.5
314000.25
6683999.75
