0.5
0.0
0.0
-0.5
212000.25
6677999.75
