0.5
0.0
0.0
-0.5
158000.25
6743999.75
