0.5
0.0
0.0
-0.5
152000.25
6725999.75
