0.5
0.0
0.0
-0.5
116000.25
6725999.75
