0.5
0.0
0.0
-0.5
104000.25
6743999.75
