0.5
0.0
0.0
-0.5
80000.25
6755999.75
