0.5
0.0
0.0
-0.5
68000.25
6731999.75
