0.5
0.0
0.0
-0.5
62000.25
6683999.75
