0.5
0.0
0.0
-0.5
404000.25
6653999.75
