0.5
0.0
0.0
-0.5
296000.25
6665999.75
