0.5
0.0
0.0
-0.5
278000.25
6659999.75
