0.5
0.0
0.0
-0.5
266000.25
6641999.75
