0.5
0.0
0.0
-0.5
140000.25
6617999.75
