0.5
0.0
0.0
-0.5
74000.25
6665999.75
